BEGIN:VCALENDAR
VERSION:2.0
PRODID:-//Tukios.com/
BEGIN:VEVENT
UID:70588379-7bd6-4410-8d73-1462ce35ffa5@www.gradyfuneralhome.com
DTSTAMP:20260423T233247Z
DTSTART:20260502T170000Z
DTEND:20260502T180000Z
SUMMARY:Funeral Service
DESCRIPTION:
URL:https://www.gradyfuneralhome.com/obituaries/elvin-weltzin-jr
LOCATION:Grady Funeral Home 111 E Monroe Street  Williamsport IN 47993
GEO:40.2845409;-87.2913459
END:VEVENT
END:VCALENDAR